BEGIN:VCALENDAR
VERSION:2.0
PRODID:-//EPIVINF - ECPv6.15.20//NONSGML v1.0//EN
CALSCALE:GREGORIAN
METHOD:PUBLISH
X-ORIGINAL-URL:https://www.epivinf.eu
X-WR-CALDESC:Events for EPIVINF
REFRESH-INTERVAL;VALUE=DURATION:PT1H
X-Robots-Tag:noindex
X-PUBLISHED-TTL:PT1H
BEGIN:VTIMEZONE
TZID:Europe/London
BEGIN:DAYLIGHT
TZOFFSETFROM:+0000
TZOFFSETTO:+0100
TZNAME:BST
DTSTART:20240331T010000
END:DAYLIGHT
BEGIN:STANDARD
TZOFFSETFROM:+0100
TZOFFSETTO:+0000
TZNAME:GMT
DTSTART:20241027T010000
END:STANDARD
BEGIN:DAYLIGHT
TZOFFSETFROM:+0000
TZOFFSETTO:+0100
TZNAME:BST
DTSTART:20250330T010000
END:DAYLIGHT
BEGIN:STANDARD
TZOFFSETFROM:+0100
TZOFFSETTO:+0000
TZNAME:GMT
DTSTART:20251026T010000
END:STANDARD
BEGIN:DAYLIGHT
TZOFFSETFROM:+0000
TZOFFSETTO:+0100
TZNAME:BST
DTSTART:20260329T010000
END:DAYLIGHT
BEGIN:STANDARD
TZOFFSETFROM:+0100
TZOFFSETTO:+0000
TZNAME:GMT
DTSTART:20261025T010000
END:STANDARD
BEGIN:DAYLIGHT
TZOFFSETFROM:+0000
TZOFFSETTO:+0100
TZNAME:BST
DTSTART:20270328T010000
END:DAYLIGHT
BEGIN:STANDARD
TZOFFSETFROM:+0100
TZOFFSETTO:+0000
TZNAME:GMT
DTSTART:20271031T010000
END:STANDARD
END:VTIMEZONE
BEGIN:VEVENT
DTSTART;TZID=Europe/London:20260326T143000
DTEND;TZID=Europe/London:20260326T153000
DTSTAMP:20260423T171228
CREATED:20260225T145558Z
LAST-MODIFIED:20260225T145558Z
UID:776-1774535400-1774539000@www.epivinf.eu
SUMMARY:Epigenetic changes in children and adults following SARS-CoV-2 infection
DESCRIPTION:🎉 We are pleased to announce an upcoming webinar in our series on Epigenetics and Infectious Diseases. \nThis session will be presented by Dr. Danilo Buonsenso\, from Fondazione Policlinico Universitario Agostino Gemelli IRCCS who will discuss “Epigenetic changes in children and adults following SARS-CoV-2 infection.” \n📅 Date: March 26\n🕒 Time: 14:30\n💻 Free of charge \nRegister following the link
URL:https://www.epivinf.eu/event/epigenetic-changes-in-children-and-adults-following-sars-cov-2-infection/
ATTACH;FMTTYPE=image/png:https://www.epivinf.eu/wp-content/uploads/2026/02/EPIVINF-webinars_Danilo-Buonsenso_March2026.png
END:VEVENT
BEGIN:VEVENT
DTSTART;TZID=Europe/London:20251217T143000
DTEND;TZID=Europe/London:20251217T153000
DTSTAMP:20260423T171228
CREATED:20251212T142051Z
LAST-MODIFIED:20251212T142051Z
UID:735-1765981800-1765985400@www.epivinf.eu
SUMMARY:Webinar with María Berdasco on "Progress on epigenetic therapies"
DESCRIPTION:🔬 We’re excited to announce the next talk in our seminar series\, focusing on the role of epigenetics in viral infections. Free and open to all\, this session will feature María Berdasco\, Principal Investigator at the Josep Carreras Leukaemia Research Institute (IJC). \nHer talk will be about “Progress on Epigenetic Therapies” \n📅 Date: December 17th\n🕒 Time: 2:30 PM (Online)\n🔗 Register now:
URL:https://www.epivinf.eu/event/webinar-with-maria-berdasco-on-progress-on-epigenetic-therapies/
ATTACH;FMTTYPE=image/png:https://www.epivinf.eu/wp-content/uploads/2025/12/EPIVINF-webinars-23.png
END:VEVENT
BEGIN:VEVENT
DTSTART;TZID=Europe/London:20250708T143000
DTEND;TZID=Europe/London:20250708T153000
DTSTAMP:20260423T171228
CREATED:20251217T152829Z
LAST-MODIFIED:20251217T152829Z
UID:738-1751985000-1751988600@www.epivinf.eu
SUMMARY:How can we increase the impact of Biomedical Research?
DESCRIPTION:🔬Want to boost the impact of biomedical research? Curious about how to make it more responsible and inclusive? \nJoin us for a free webinar on 🗓️ July 8th at 14:30 (CET)\, hosted by EPIVINF\, where we’ll explore how Responsible Research and Innovation (RRI) can be applied to European projects. \n🎙️ Rosina Malagrida\, Head of the Living Lab for Health\, will lead the session and share valuable insights on putting RRI into practice.
URL:https://www.epivinf.eu/event/how-can-we-increase-the-impact-of-biomedical-research/
ATTACH;FMTTYPE=image/jpeg:https://www.epivinf.eu/wp-content/uploads/2025/12/1751278237423.jpeg
END:VEVENT
BEGIN:VEVENT
DTSTART;TZID=Europe/London:20250618T143000
DTEND;TZID=Europe/London:20250618T153000
DTSTAMP:20260423T171228
CREATED:20251217T153128Z
LAST-MODIFIED:20251217T153128Z
UID:741-1750257000-1750260600@www.epivinf.eu
SUMMARY:Epigenomics and the IHEC EpiAtlas
DESCRIPTION:🔬We’re excited to announce a new seminar on our seminar series on the role of epigenetics in viral infections. Open to all and completely free\, this session will feature Prof Jörn Walter\, Senior Professor of Genetics and Epigenetics at Universität des Saarlandes. \nHis talk will be about Epigenomics and the IHEC EpiAtlas \n📅 Date: June 18th\n🕒 Time: 2:30 PM (Online)
URL:https://www.epivinf.eu/event/epigenomics-and-the-ihec-epiatlas/
ATTACH;FMTTYPE=image/jpeg:https://www.epivinf.eu/wp-content/uploads/2025/12/1748848443012.jpeg
END:VEVENT
BEGIN:VEVENT
DTSTART;TZID=Europe/London:20250327T143000
DTEND;TZID=Europe/London:20250327T153000
DTSTAMP:20260423T171228
CREATED:20251217T153510Z
LAST-MODIFIED:20251217T153510Z
UID:744-1743085800-1743089400@www.epivinf.eu
SUMMARY:Epigenetics in Viral Infectious Diseases
DESCRIPTION:🔬We’re excited to launch an insightful seminar exploring the role of epigenetics in viral infections. Open to all and completely free\, this session will feature speakers from IrsiCaixa\, our project coordinator. \n🔹 Christian Brander – EPIVINF coordinator & Principal Investigator at IrsiCaixa\, discussing The EPIVINF EU Project: How Epigenetics Impact Outcomes of Viral Infections.\n🔹 Marta Ruiz-Riol – Senior Scientist at IrsiCaixa\, presenting on Epigenetic Alterations in Neurological Complications of Viral Infections. \n📅 Date: March 27th\n🕒 Time: 2:30 PM (Online)
URL:https://www.epivinf.eu/event/epigenetics-in-viral-infectious-diseases/
ATTACH;FMTTYPE=image/jpeg:https://www.epivinf.eu/wp-content/uploads/2025/12/1741271938645.jpeg
END:VEVENT
END:VCALENDAR